BEGIN:VCALENDAR
VERSION:2.0
PRODID:-//https://messiahofthemountains.org///NONSGML kigkonsult.se iCalcreator 2.10.15//
METHOD:PUBLISH
BEGIN:VEVENT
UID:20260421T100724UTC-7680MFeveD@https://messiahofthemountains.org/
DTSTAMP:20260421T100724Z
DESCRIPTION:Council Meeting: Council members will meet with the Pastor to d
 iscuss business of the church. https://messiahofthemountains.org/events/ev
 ent/689-council-meeting
DTSTART:20261208T150000Z
DTEND:20261208T170000Z
LOCATION:Messiah Of The Mountains Lutheran Church (3690 US-19E\, Burnsville
 \, NC 28714\, USA)
SUMMARY:Council Meeting
URL:https://messiahofthemountains.org/events/event/689-council-meeting
END:VEVENT
END:VCALENDAR
